BEGIN:VCALENDAR
VERSION:2.0
PRODID:-//Association of Applied Biologists - ECPv6.15.20//NONSGML v1.0//EN
CALSCALE:GREGORIAN
METHOD:PUBLISH
X-ORIGINAL-URL:https://www.aab.org.uk
X-WR-CALDESC:Events for Association of Applied Biologists
REFRESH-INTERVAL;VALUE=DURATION:PT1H
X-Robots-Tag:noindex
X-PUBLISHED-TTL:PT1H
BEGIN:VTIMEZONE
TZID:Europe/London
BEGIN:DAYLIGHT
TZOFFSETFROM:+0000
TZOFFSETTO:+0100
TZNAME:BST
DTSTART:20250330T010000
END:DAYLIGHT
BEGIN:STANDARD
TZOFFSETFROM:+0100
TZOFFSETTO:+0000
TZNAME:GMT
DTSTART:20251026T010000
END:STANDARD
BEGIN:DAYLIGHT
TZOFFSETFROM:+0000
TZOFFSETTO:+0100
TZNAME:BST
DTSTART:20260329T010000
END:DAYLIGHT
BEGIN:STANDARD
TZOFFSETFROM:+0100
TZOFFSETTO:+0000
TZNAME:GMT
DTSTART:20261025T010000
END:STANDARD
BEGIN:DAYLIGHT
TZOFFSETFROM:+0000
TZOFFSETTO:+0100
TZNAME:BST
DTSTART:20270328T010000
END:DAYLIGHT
BEGIN:STANDARD
TZOFFSETFROM:+0100
TZOFFSETTO:+0000
TZNAME:GMT
DTSTART:20271031T010000
END:STANDARD
END:VTIMEZONE
BEGIN:VEVENT
DTSTART;VALUE=DATE:20260323
DTEND;VALUE=DATE:20260327
DTSTAMP:20260422T091214
CREATED:20250902T072211Z
LAST-MODIFIED:20260318T120014Z
UID:5963-1774224000-1774569599@www.aab.org.uk
SUMMARY:Monogram 2026
DESCRIPTION:VISIT EVENT WEBSITE\nThe Monogram Network was established in 2005 and consists of mostly UK-based researchers with an active interest in small grain cereals and grass (including C4 energy grasses). A primary aim is to link academia with commercial science and crop breeding\, Monogram 2026 will include both basic and more applied research and its members span disciplines including plant genetics\, physiology\, pathology\, breeding\, and bioinformatics.  \nFrom 2026\, Monogram are linking up with AAB to organise their annual meeting\, which will simplify the organisation challenges and provide financial security. Attendees of Monogram 2026 have the opportunity to join AAB for a year (see AAB member benefits). The Monogram Steering Group will still make all scientific decisions about the meeting. \n\n\n\n\n\n\n\nMonogram 2026 Meeting Schedule\n\n\n\n\n\n\n\n\n\n\n\n\nDownload Final Programme (March 18th\,PDF) \nMonday March 23rd \nMONOGRAM: ECR Skill Building Pre-conference Workshop. Hosted at Niab. \nTuesday March 24th \nAM: Meeting start at 9am and scientific sessions \nPM: Scientific sessions and evening poster session at Robinson College \nWednesday March 25th \nStart at 9a\, \nAM: Scientific sessions \nPM: Scientific sessions and local tour \nEvening: Conference dinner at Robinson College (booked as an optional item) \nThursday March 26th \nStart at 930am AM: Scientific sessions  \nMain Meeting ends at lunch \nPM: Resources workshop \n\n\n\n\n\n\n\n\n\n\n\n\n\n\n\n\n\n\n\n\n\n\n\n\n\nOnline Registration remains open \nSupported by
URL:https://www.aab.org.uk/event/monogram-2026/
LOCATION:Robinson College\, Cambridge\, Grange Rd\, Cambridge\, B3 9AN
ATTACH;FMTTYPE=image/png:https://www.aab.org.uk/wp-content/uploads/2025/09/cropped-Monogram_logo-1-copy.png
ORGANIZER;CN="Geraint Parry":MAILTO:geraint@aab.org.uk
END:VEVENT
END:VCALENDAR